BEGIN:VCALENDAR
VERSION:2.0
PRODID:-//wp-events-plugin.com//7.2.3.1//EN
BEGIN:VEVENT
UID:2@weasku.com
DTSTART;TZID=America/Los_Angeles:20230820T130000
DTEND;TZID=America/Los_Angeles:20230820T160000
DTSTAMP:20230816T192754Z
URL:https://weasku.com/events/anchor-valley-complimentary-wine-tasting-wit
 h-live-music/
SUMMARY:Anchor Valley Complimentary Wine Tasting with live music
DESCRIPTION:Join us each summer as we feature a local winery partner(s) and
  musician "pairing"each month through the season! For more information vis
 it http://www.roguewineandmusic.com/
LOCATION:Weasku Inn\, 5560 Rogue River Highway\, Grants Pass\, Oregon\, 975
 27\, United States
X-APPLE-STRUCTURED-LOCATION;VALUE=URI;X-ADDRESS=5560 Rogue River Highway\, 
 Grants Pass\, Oregon\, 97527\, United States;X-APPLE-RADIUS=100;X-TITLE=We
 asku Inn:geo:0,0
END:VEVENT
BEGIN:VTIMEZONE
TZID:America/Los_Angeles
X-LIC-LOCATION:America/Los_Angeles
BEGIN:DAYLIGHT
DTSTART:20230312T030000
TZOFFSETFROM:-0800
TZOFFSETTO:-0700
TZNAME:PDT
END:DAYLIGHT
END:VTIMEZONE
END:VCALENDAR