BEGIN:VCALENDAR
VERSION:2.0
PRODID:-//wp-events-plugin.com//7.2.3.1//EN
BEGIN:VEVENT
UID:1@weasku.com
DTSTART;VALUE=DATE:20230126
DTEND;VALUE=DATE:20230127
DTSTAMP:20230119T021136Z
URL:https://weasku.com/events/test-event/
SUMMARY:Test Event
DESCRIPTION:
END:VEVENT
END:VCALENDAR